BEGIN:VCALENDAR
VERSION:2.0
PRODID:SchoolNow
CALSCALE:GREGORIAN
BEGIN:VEVENT
UID:18b5bb70-24c9-11ee-9948-0a58a9feac02
DTSTAMP:20230717T174101Z
SUMMARY:January Time Sheets Due
URL;VALUE=URI:https://www.frc.edu/about/calendar/4499926/june-time-sheets-d
 ue-clone-clone-clone-clone-clone-clone-clone-clone-clone-clone-clone-clone
 -clone-clone-clone-clone-clone-clone-clone-clone
DTSTART;VALUE=DATE:20240131
DTEND;VALUE=DATE:20240201
END:VEVENT
END:VCALENDAR
