BEGIN:VCALENDAR
VERSION:2.0
PRODID:SchoolNow
CALSCALE:GREGORIAN
BEGIN:VEVENT
UID:decb6ebe-24c8-11ee-a394-0a58a9feac02
DTSTAMP:20230717T174022Z
SUMMARY:December Time Sheets Due
URL;VALUE=URI:https://www.frc.edu/about/calendar/4499925/june-time-sheets-d
 ue-clone-clone-clone-clone-clone-clone-clone-clone-clone-clone-clone-clone
 -clone-clone-clone-clone-clone-clone-clone
DTSTART;VALUE=DATE:20240102
DTEND;VALUE=DATE:20240103
END:VEVENT
END:VCALENDAR
