BEGIN:VCALENDAR
VERSION:2.0
PRODID:SchoolNow
CALSCALE:GREGORIAN
BEGIN:VEVENT
UID:d16c2e70-24c8-11ee-8de4-0ad72e39358f
DTSTAMP:20230717T173902Z
SUMMARY:November Time Sheets Due
URL;VALUE=URI:https://www.frc.edu/about/calendar/4499924/june-time-sheets-d
 ue-clone-clone-clone-clone-clone-clone-clone-clone-clone-clone-clone-clone
 -clone-clone-clone-clone-clone-clone
DTSTART;VALUE=DATE:20231130
DTEND;VALUE=DATE:20231201
END:VEVENT
END:VCALENDAR
