BEGIN:VCALENDAR
VERSION:2.0
PRODID:SchoolNow
CALSCALE:GREGORIAN
BEGIN:VEVENT
UID:c2fa9f48-24c8-11ee-b6bb-0a58a9feac02
DTSTAMP:20230717T173837Z
SUMMARY:October Time Sheets Due
URL;VALUE=URI:https://www.frc.edu/about/calendar/4499923/june-time-sheets-d
 ue-clone-clone-clone-clone-clone-clone-clone-clone-clone-clone-clone-clone
 -clone-clone-clone-clone-clone
DTSTART;VALUE=DATE:20231031
DTEND;VALUE=DATE:20231101
END:VEVENT
END:VCALENDAR
