BEGIN:VCALENDAR
VERSION:2.0
PRODID:SchoolNow
CALSCALE:GREGORIAN
BEGIN:VEVENT
UID:a17f9dfa-24c8-11ee-a4b4-0e938aba3f39
DTSTAMP:20230717T173741Z
SUMMARY:September Time Sheets Due
URL;VALUE=URI:https://www.frc.edu/about/calendar/4499922/june-time-sheets-d
 ue-clone-clone-clone-clone-clone-clone-clone-clone-clone-clone-clone-clone
 -clone-clone-clone-clone
DTSTART;VALUE=DATE:20231002
DTEND;VALUE=DATE:20231003
END:VEVENT
END:VCALENDAR
