BEGIN:VCALENDAR
VERSION:2.0
PRODID:SchoolNow
CALSCALE:GREGORIAN
BEGIN:VEVENT
UID:9096ae8e-24c8-11ee-8004-0eba6d075b99
DTSTAMP:20230717T173713Z
SUMMARY:August Time Sheets Due
URL;VALUE=URI:https://www.frc.edu/about/calendar/4499921/june-time-sheets-d
 ue-clone-clone-clone-clone-clone-clone-clone-clone-clone-clone-clone-clone
 -clone-clone-clone
DTSTART;VALUE=DATE:20230831
DTEND;VALUE=DATE:20230901
END:VEVENT
END:VCALENDAR
