BEGIN:VCALENDAR
VERSION:2.0
PRODID:SchoolNow
CALSCALE:GREGORIAN
BEGIN:VEVENT
UID:af446832-24c1-11ee-8e03-0a58a9feac02
DTSTAMP:20230717T164758Z
SUMMARY:July Time Sheets Due
URL;VALUE=URI:https://www.frc.edu/about/calendar/4499919/june-time-sheets-d
 ue-clone-clone-clone-clone-clone-clone-clone-clone-clone-clone-clone-clone
 -clone-clone
DTSTART;VALUE=DATE:20230731
DTEND;VALUE=DATE:20230801
END:VEVENT
END:VCALENDAR
