BEGIN:VCALENDAR
VERSION:2.0
PRODID:SchoolNow
CALSCALE:GREGORIAN
BEGIN:VEVENT
UID:72952e36-2038-11ee-9e6a-0a99d40c9e07
DTSTAMP:20230711T221530Z
SUMMARY:Beginning of Fall 2023 Semester
URL;VALUE=URI:https://www.frc.edu/about/calendar/4488488/begining-of-fall-2
 022-semester-clone
DTSTART;VALUE=DATE:20230821
DTEND;VALUE=DATE:20230822
END:VEVENT
END:VCALENDAR
