BEGIN:VCALENDAR
VERSION:2.0
PRODID:SchoolNow
CALSCALE:GREGORIAN
BEGIN:VEVENT
UID:5a94b902-f340-11ed-8a8e-0a7768269c1d
DTSTAMP:20230516T182401Z
SUMMARY:FRC Production Horse sale
LOCATION:Equine Facility on FRC Campus
URL;VALUE=URI:https://www.frc.edu/about/calendar/4246429/frc-production-hor
 se-sale
DTSTART:20230520T160000Z
DTEND:20230520T170000Z
ATTACH;FILENAME=2023 Sale Catalog_WEB.pdf;FMTTYPE=application/pdf:https://c
 ampussuite-storage.s3.amazonaws.com/prod/1558523/0672826e-a84b-11e7-9779-0
 ae3e1d9783c/2593044/526fdaa4-f340-11ed-9167-0a7768269c1d/file/2023 Sale Ca
 talog_WEB.pdf
END:VEVENT
END:VCALENDAR
