BEGIN:VCALENDAR
VERSION:2.0
PRODID:SchoolNow
CALSCALE:GREGORIAN
BEGIN:VEVENT
UID:adca9f8e-f33f-11ed-bf65-0a7768269c1d
DTSTAMP:20230515T164354Z
SUMMARY:Horse Sale - Preview Day!
LOCATION:Equine Facility on FRC Campus
URL;VALUE=URI:https://www.frc.edu/about/calendar/4246428/horse-sale-preview
 -day
DTSTART:20230519T190000Z
DTEND:20230519T200000Z
END:VEVENT
END:VCALENDAR
