BEGIN:VCALENDAR
VERSION:2.0
PRODID:SchoolNow
CALSCALE:GREGORIAN
BEGIN:VEVENT
UID:1402d394-ef61-11ed-923e-02df114b7ab7
DTSTAMP:20230515T230445Z
SUMMARY:Hypnopalooza Comedy + Hypnosis Show
LOCATION:Lower Green
URL;VALUE=URI:https://www.frc.edu/about/calendar/4218741/hypnopalooza-comed
 y-hypnosis-show
DTSTART:20230516T001500Z
DTEND:20230516T020000Z
END:VEVENT
END:VCALENDAR
