BEGIN:VCALENDAR
VERSION:2.0
PRODID:SchoolNow
CALSCALE:GREGORIAN
BEGIN:VEVENT
UID:07d21d1c-edc4-11ed-86e7-0a157ecf6e49
DTSTAMP:20230508T171611Z
SUMMARY:Transfer Shock - Transfer Workshop
LOCATION:LRC 850 (library)
URL;VALUE=URI:https://www.frc.edu/about/calendar/4206596/transfer-shock-tra
 nsfer-workshop
DTSTART:20230517T231500Z
DTEND:20230518T003000Z
END:VEVENT
END:VCALENDAR
