BEGIN:VCALENDAR
VERSION:2.0
PRODID:SchoolNow
CALSCALE:GREGORIAN
BEGIN:VEVENT
UID:cbe95df2-eaa7-11ed-b8dd-022516d5a5a3
DTSTAMP:20230504T182326Z
SUMMARY:Student Art Exhibition
LOCATION:Plumas County Fairgrounds in Quincy
URL;VALUE=URI:https://www.frc.edu/about/calendar/4182512/student-art-exhibi
 tion
DTSTART:20230514T000000Z
DTEND:20230515T000000Z
ATTACH;FILENAME=Student art show 2023 2.jpg;FMTTYPE=image/jpeg:https://camp
 ussuite-storage.s3.amazonaws.com/prod/1558523/0672826e-a84b-11e7-9779-0ae3
 e1d9783c/2588205/a99d2ab2-eaa7-11ed-9ac8-022516d5a5a3/file/Student art sho
 w 2023 2.jpg
END:VEVENT
END:VCALENDAR
