BEGIN:VCALENDAR
VERSION:2.0
PRODID:SchoolNow
CALSCALE:GREGORIAN
BEGIN:VEVENT
UID:5b9076fa-e9ec-11ed-a19e-0a4bde19e60b
DTSTAMP:20230503T195447Z
SUMMARY:Summer 2023 Session Begins
URL;VALUE=URI:https://www.frc.edu/about/calendar/4176299/summer-2023-sessio
 n-begins
DTSTART;VALUE=DATE:20230527
DTEND;VALUE=DATE:20230528
END:VEVENT
END:VCALENDAR
