BEGIN:VCALENDAR
VERSION:2.0
PRODID:SchoolNow
CALSCALE:GREGORIAN
BEGIN:VEVENT
UID:2b2ff154-d577-11ed-b18f-02817f5a76d1
DTSTAMP:20230417T181040Z
SUMMARY:Denim Day
LOCATION:FRC Mental Health and Wellness Center
URL;VALUE=URI:https://www.frc.edu/about/calendar/4002664/denim-day
DTSTART;VALUE=DATE:20230426
DTEND;VALUE=DATE:20230427
ATTACH;FILENAME=Denim Day Flyer.png;FMTTYPE=image/png:https://campussuite-s
 torage.s3.amazonaws.com/prod/1558523/0672826e-a84b-11e7-9779-0ae3e1d9783c/
 2577993/e99f93f2-d576-11ed-874f-02d5de15a75d/file/Denim Day Flyer.png
ATTACH;FILENAME=What is Denim Day.png;FMTTYPE=image/png:https://campussuite
 -storage.s3.amazonaws.com/prod/1558523/0672826e-a84b-11e7-9779-0ae3e1d9783
 c/2577994/e99f99b0-d576-11ed-913e-02d5de15a75d/file/What is Denim Day.png
END:VEVENT
END:VCALENDAR
