BEGIN:VCALENDAR
VERSION:2.0
PRODID:SchoolNow
CALSCALE:GREGORIAN
BEGIN:VEVENT
UID:501ea282-d570-11ed-b304-029f055413a3
DTSTAMP:20230419T211305Z
SUMMARY:Free Movie "Wind River"
LOCATION:Gallery Classroom
URL;VALUE=URI:https://www.frc.edu/about/calendar/4002648/free-movie-wind-ri
 ver
DTSTART:20230504T010000Z
DTEND:20230504T020000Z
END:VEVENT
END:VCALENDAR
