BEGIN:VCALENDAR
VERSION:2.0
PRODID:SchoolNow
CALSCALE:GREGORIAN
BEGIN:VEVENT
UID:120dd82a-d56e-11ed-a7a5-0e28cbde8e9f
DTSTAMP:20230407T180024Z
SUMMARY:22/23 Student Recognition Awards
LOCATION:Upper Green outside of Eagle's Perch
URL;VALUE=URI:https://www.frc.edu/about/calendar/4002645/22-23-student-reco
 gnition-awards
DTSTART:20230509T191500Z
DTEND:20230509T201500Z
END:VEVENT
END:VCALENDAR
