BEGIN:VCALENDAR
VERSION:2.0
PRODID:SchoolNow
CALSCALE:GREGORIAN
BEGIN:VEVENT
UID:e0a45bb2-d56b-11ed-be28-0e28cbde8e9f
DTSTAMP:20230407T174442Z
SUMMARY:ASFRC Voting/Student Ambassador Interviews
URL;VALUE=URI:https://www.frc.edu/about/calendar/4002639/asfrc-voting-stude
 nt-ambassador-interviews
DTSTART;VALUE=DATE:20230420
DTEND;VALUE=DATE:20230425
END:VEVENT
END:VCALENDAR
