BEGIN:VCALENDAR
VERSION:2.0
PRODID:SchoolNow
CALSCALE:GREGORIAN
BEGIN:VEVENT
UID:016d1498-d56b-11ed-888e-0e28cbde8e9f
DTSTAMP:20230421T163030Z
SUMMARY:Cultural Fair
LOCATION:Outside the LRC on the Lower Green
URL;VALUE=URI:https://www.frc.edu/about/calendar/4002633/cultural-fair
DTSTART:20230504T183000Z
DTEND:20230504T200000Z
END:VEVENT
END:VCALENDAR
