BEGIN:VCALENDAR
VERSION:2.0
PRODID:SchoolNow
CALSCALE:GREGORIAN
BEGIN:VEVENT
UID:c61d8952-d247-11ed-b649-025d47390f3f
DTSTAMP:20230413T221506Z
SUMMARY:On-Campus Earth Day Trash Clean Up
URL;VALUE=URI:https://www.frc.edu/about/calendar/3974742/on-campus-earth-da
 y-trash-clean-up
DTSTART;VALUE=DATE:20230420
DTEND;VALUE=DATE:20230422
END:VEVENT
END:VCALENDAR
