BEGIN:VCALENDAR
VERSION:2.0
PRODID:SchoolNow
CALSCALE:GREGORIAN
BEGIN:VEVENT
UID:65edd80c-d247-11ed-8abb-025d47390f3f
DTSTAMP:20230407T221425Z
SUMMARY:Earth Day Event: Apache 8 Film
URL;VALUE=URI:https://www.frc.edu/about/calendar/3974740/apache-8-film
DTSTART:20230421T020000Z
DTEND:20230421T040000Z
END:VEVENT
END:VCALENDAR
