BEGIN:VCALENDAR
VERSION:2.0
PRODID:SchoolNow
CALSCALE:GREGORIAN
BEGIN:VEVENT
UID:1a7ff2fe-c763-11ed-9e40-02f5ea294c35
DTSTAMP:20230320T210637Z
SUMMARY:Beach Volleyball vs Lassen College
LOCATION:Beach Volleyball Sand Courts
URL;VALUE=URI:https://www.frc.edu/about/calendar/3899230/beach-volleyball-v
 s-lassen-college
DTSTART:20230325T190000Z
DTEND:20230325T203000Z
END:VEVENT
END:VCALENDAR
