BEGIN:VCALENDAR
VERSION:2.0
PRODID:SchoolNow
CALSCALE:GREGORIAN
BEGIN:VEVENT
UID:5b77b0a2-c746-11ed-a3aa-0e2eb98784fd
DTSTAMP:20230320T174051Z
SUMMARY:Faculty Flex Day (No Classes)
URL;VALUE=URI:https://www.frc.edu/about/calendar/3897585/faculty-flex-day-n
 o-classes
DTSTART;VALUE=DATE:20230321
DTEND;VALUE=DATE:20230322
END:VEVENT
END:VCALENDAR
