BEGIN:VCALENDAR
VERSION:2.0
PRODID:SchoolNow
CALSCALE:GREGORIAN
BEGIN:VEVENT
UID:50080692-c294-11ed-a7a0-0201c4bb768f
DTSTAMP:20230317T162346Z
SUMMARY:Critical Leadership to Cultivate an Inclusive Campus (Faculty Flex 
 Day Event)
LOCATION:Gallery for Keynote\, Room 203 for Workshop
URL;VALUE=URI:https://www.frc.edu/about/calendar/3866622/critical-leadershi
 p-to-cultivate-an-inclusive-campus-faculty-flex
DTSTART:20230321T180000Z
DTEND:20230321T190000Z
ATTACH;FILENAME=Critical Leadership_Faculty_FINAL.pdf;FMTTYPE=application/p
 df:https://campussuite-storage.s3.amazonaws.com/prod/1558523/0672826e-a84b
 -11e7-9779-0ae3e1d9783c/2568284/0d8ac662-c4e0-11ed-b446-0afe9011a2c9/file/
 Critical Leadership_Faculty_FINAL.pdf
END:VEVENT
END:VCALENDAR
