BEGIN:VCALENDAR
VERSION:2.0
PRODID:SchoolNow
CALSCALE:GREGORIAN
BEGIN:VEVENT
UID:b7679860-bead-11ed-b42a-028cb33b3df7
DTSTAMP:20230425T160236Z
SUMMARY:Self-Care Workshop
LOCATION:Mental Health and Wellness Center
URL;VALUE=URI:https://www.frc.edu/about/calendar/3841170/self-care-workshop
DTSTART:20230501T200000Z
DTEND:20230501T210000Z
ATTACH;FILENAME=Self Care Workshop.png;FMTTYPE=image/png:https://campussuit
 e-storage.s3.amazonaws.com/prod/1558523/0672826e-a84b-11e7-9779-0ae3e1d978
 3c/2583674/5abd8864-e382-11ed-9aa9-0e98bf9f4797/file/Self Care Workshop.pn
 g
END:VEVENT
END:VCALENDAR
