BEGIN:VCALENDAR
VERSION:2.0
PRODID:SchoolNow
CALSCALE:GREGORIAN
BEGIN:VEVENT
UID:a7a536c6-bead-11ed-a4c4-0a1e8c4d52ab
DTSTAMP:20230309T232159Z
SUMMARY:Anxiety Workshop
LOCATION:Mental Health and Wellness Center
URL;VALUE=URI:https://www.frc.edu/about/calendar/3841166/anxiety-workshop
DTSTART:20230327T190000Z
DTEND:20230327T200000Z
ATTACH;FILENAME=Anxiety workshop.png;FMTTYPE=image/png:https://campussuite-
 storage.s3.amazonaws.com/prod/1558523/0672826e-a84b-11e7-9779-0ae3e1d9783c
 /2562422/17fbbad6-bed0-11ed-acb8-0e3902c8c763/file/Anxiety workshop.png
END:VEVENT
END:VCALENDAR
