BEGIN:VCALENDAR
VERSION:2.0
PRODID:SchoolNow
CALSCALE:GREGORIAN
BEGIN:VEVENT
UID:49ed6eea-bd2c-11ed-a5dc-0e1f0cd9c4ed
DTSTAMP:20230307T210946Z
SUMMARY:International Women's Day
URL;VALUE=URI:https://www.frc.edu/about/calendar/3832557/international-wome
 ns-day
DTSTART;VALUE=DATE:20230308
DTEND;VALUE=DATE:20230309
END:VEVENT
END:VCALENDAR
