BEGIN:VCALENDAR
VERSION:2.0
PRODID:SchoolNow
CALSCALE:GREGORIAN
BEGIN:VEVENT
UID:857bab5a-9b46-11ed-9692-02bba56ae4a3
DTSTAMP:20230123T175110Z
SUMMARY:Navigation Day
LOCATION:Gymnasium
URL;VALUE=URI:https://www.frc.edu/about/calendar/3684038/navigation-day
DTSTART:20230512T160000Z
DTEND:20230512T200000Z
END:VEVENT
END:VCALENDAR
