BEGIN:VCALENDAR
VERSION:2.0
PRODID:SchoolNow
CALSCALE:GREGORIAN
BEGIN:VEVENT
UID:c1d1b444-939b-11ed-85c1-0a7d9c4d1143
DTSTAMP:20230113T234206Z
SUMMARY:Home Field Advantage
LOCATION:On-site at each high school location
URL;VALUE=URI:https://www.frc.edu/about/calendar/3667605/home-field-advanta
 ge
DTSTART:20230417T150000Z
DTEND:20230421T000000Z
END:VEVENT
END:VCALENDAR
