BEGIN:VCALENDAR
VERSION:2.0
PRODID:SchoolNow
CALSCALE:GREGORIAN
BEGIN:VEVENT
UID:43293368-9145-11ed-a610-0e47e0b574a3
DTSTAMP:20230111T001658Z
SUMMARY:Softball vs Butte College (DH)
LOCATION:Softball Field
URL;VALUE=URI:https://www.frc.edu/about/calendar/3663144/softball-vs-butte-
 college-dh
DTSTART:20230421T190000Z
DTEND:20230421T200000Z
END:VEVENT
END:VCALENDAR
