BEGIN:VCALENDAR
VERSION:2.0
PRODID:SchoolNow
CALSCALE:GREGORIAN
BEGIN:VEVENT
UID:23f4055e-9145-11ed-bfe9-0e47e0b574a3
DTSTAMP:20230111T001606Z
SUMMARY:Softball vs Lassen College (DH)
LOCATION:Softball field
URL;VALUE=URI:https://www.frc.edu/about/calendar/3663143/softball-vs-lassen
 -college-dh
DTSTART:20230412T190000Z
DTEND:20230412T200000Z
END:VEVENT
END:VCALENDAR
