BEGIN:VCALENDAR
VERSION:2.0
PRODID:SchoolNow
CALSCALE:GREGORIAN
BEGIN:VEVENT
UID:ffad8148-9144-11ed-93f7-0e47e0b574a3
DTSTAMP:20230111T001505Z
SUMMARY:Softball vs College of the Siskiyous (DH)
LOCATION:Softball field
URL;VALUE=URI:https://www.frc.edu/about/calendar/3663142/softball-vs-colleg
 e-of-the-siskiyous-dh
DTSTART:20230405T190000Z
DTEND:20230405T200000Z
END:VEVENT
END:VCALENDAR
