BEGIN:VCALENDAR
VERSION:2.0
PRODID:SchoolNow
CALSCALE:GREGORIAN
BEGIN:VEVENT
UID:e0b9a74e-9144-11ed-b583-0e47e0b574a3
DTSTAMP:20230111T001413Z
SUMMARY:Softball vs College of the Redwoods (DH)
LOCATION:Softball field
URL;VALUE=URI:https://www.frc.edu/about/calendar/3663141/softball-vs-colleg
 e-of-the-redwoods-dh
DTSTART:20230401T190000Z
DTEND:20230401T200000Z
END:VEVENT
END:VCALENDAR
