BEGIN:VCALENDAR
VERSION:2.0
PRODID:SchoolNow
CALSCALE:GREGORIAN
BEGIN:VEVENT
UID:c038eb92-9144-11ed-a53d-0e47e0b574a3
DTSTAMP:20230314T223022Z
SUMMARY:Inclement Weather - Softball vs Shasta College (DH)
LOCATION:Updated Softball Schedule
URL;VALUE=URI:https://www.frc.edu/about/calendar/3663140/softball-vs-shasta
 -college-dh
DTSTART:20230318T190000Z
DTEND:20230318T200000Z
END:VEVENT
END:VCALENDAR
