BEGIN:VCALENDAR
VERSION:2.0
PRODID:SchoolNow
CALSCALE:GREGORIAN
BEGIN:VEVENT
UID:e02bd618-9143-11ed-bb70-0e7c10311fc5
DTSTAMP:20230111T000702Z
SUMMARY:Baseball vs Butte College
LOCATION:Eagles Nest
URL;VALUE=URI:https://www.frc.edu/about/calendar/3663139/baseball-vs-butte-
 college
DTSTART:20230428T210000Z
DTEND:20230428T220000Z
END:VEVENT
END:VCALENDAR
