BEGIN:VCALENDAR
VERSION:2.0
PRODID:SchoolNow
CALSCALE:GREGORIAN
BEGIN:VEVENT
UID:cacf1a3c-9143-11ed-a2e2-0e7c10311fc5
DTSTAMP:20230111T000626Z
SUMMARY:Baseball vs Shasta College
LOCATION:Eagles Nest
URL;VALUE=URI:https://www.frc.edu/about/calendar/3663138/baseball-vs-shasta
 -college
DTSTART:20230415T200000Z
DTEND:20230415T210000Z
END:VEVENT
END:VCALENDAR
