BEGIN:VCALENDAR
VERSION:2.0
PRODID:SchoolNow
CALSCALE:GREGORIAN
BEGIN:VEVENT
UID:b14f7d18-9143-11ed-9c25-0e7c10311fc5
DTSTAMP:20230111T000544Z
SUMMARY:Baseball vs Shasta College
LOCATION:Eagles Nest
URL;VALUE=URI:https://www.frc.edu/about/calendar/3663137/baseball-vs-shasta
 -college
DTSTART:20230414T210000Z
DTEND:20230414T220000Z
END:VEVENT
END:VCALENDAR
