BEGIN:VCALENDAR
VERSION:2.0
PRODID:SchoolNow
CALSCALE:GREGORIAN
BEGIN:VEVENT
UID:93f5d140-9143-11ed-8e69-0e7c10311fc5
DTSTAMP:20230111T000454Z
SUMMARY:Baseball vs College of the Siskiyous
LOCATION:Eagles Nest
URL;VALUE=URI:https://www.frc.edu/about/calendar/3663136/baseball-vs-colleg
 e-of-the-siskiyous
DTSTART:20230408T190000Z
DTEND:20230408T200000Z
END:VEVENT
END:VCALENDAR
