BEGIN:VCALENDAR
VERSION:2.0
PRODID:SchoolNow
CALSCALE:GREGORIAN
BEGIN:VEVENT
UID:7700cd38-9143-11ed-8bdc-0e7c10311fc5
DTSTAMP:20230406T173741Z
SUMMARY:Baseball vs College of the Siskiyous (double header)
LOCATION:Eagles Nest
URL;VALUE=URI:https://www.frc.edu/about/calendar/3663135/baseball-vs-colleg
 e-of-the-siskiyous
DTSTART:20230407T190000Z
DTEND:20230407T230000Z
END:VEVENT
END:VCALENDAR
