BEGIN:VCALENDAR
VERSION:2.0
PRODID:SchoolNow
CALSCALE:GREGORIAN
BEGIN:VEVENT
UID:43205592-9143-11ed-8be8-0e7c10311fc5
DTSTAMP:20230111T000239Z
SUMMARY:Baseball vs Lassen College
LOCATION:Eagles Nest
URL;VALUE=URI:https://www.frc.edu/about/calendar/3663134/baseball-vs-lassen
 -college
DTSTART:20230331T210000Z
DTEND:20230331T220000Z
END:VEVENT
END:VCALENDAR
