BEGIN:VCALENDAR
VERSION:2.0
PRODID:SchoolNow
CALSCALE:GREGORIAN
BEGIN:VEVENT
UID:117c0ba8-9143-11ed-94a6-0e7c10311fc5
DTSTAMP:20230314T223322Z
SUMMARY:Inclement Weather - Baseball vs Butte College
LOCATION:Updated Baseball Schedule
URL;VALUE=URI:https://www.frc.edu/about/calendar/3663133/baseball-vs-butte-
 college
DTSTART:20230324T200000Z
DTEND:20230324T210000Z
END:VEVENT
END:VCALENDAR
