BEGIN:VCALENDAR
VERSION:2.0
PRODID:SchoolNow
CALSCALE:GREGORIAN
BEGIN:VEVENT
UID:e1a18390-9142-11ed-b8f4-0e7c10311fc5
DTSTAMP:20230314T231812Z
SUMMARY:Inclement Weather  - Baseball vs College of the Redwoods
LOCATION:Updated Baseball Schedule
URL;VALUE=URI:https://www.frc.edu/about/calendar/3663132/baseball-vs-colleg
 e-of-the-redwoods
DTSTART:20230318T190000Z
DTEND:20230318T200000Z
END:VEVENT
END:VCALENDAR
