BEGIN:VCALENDAR
VERSION:2.0
PRODID:SchoolNow
CALSCALE:GREGORIAN
BEGIN:VEVENT
UID:c02cc65c-9142-11ed-b0db-0e7c10311fc5
DTSTAMP:20230314T223415Z
SUMMARY:Inclement Weather - Baseball vs College of the Redwoods (DH)
LOCATION:Updated Baseball Schedule
URL;VALUE=URI:https://www.frc.edu/about/calendar/3663131/baseball-vs-colleg
 e-of-the-redwoods-dh
DTSTART:20230317T190000Z
DTEND:20230317T200000Z
END:VEVENT
END:VCALENDAR
