BEGIN:VCALENDAR
VERSION:2.0
PRODID:SchoolNow
CALSCALE:GREGORIAN
BEGIN:VEVENT
UID:9e09a4cc-4418-11ed-902e-0a188bb29cab
DTSTAMP:20221004T191323Z
SUMMARY:Grades due by 4:00 PM
URL;VALUE=URI:https://www.frc.edu/about/calendar/3481207/grades-due-by-4-00
 -pm
DTSTART;VALUE=DATE:20230530
DTEND;VALUE=DATE:20230531
END:VEVENT
END:VCALENDAR
