BEGIN:VCALENDAR
VERSION:2.0
PRODID:SchoolNow
CALSCALE:GREGORIAN
BEGIN:VEVENT
UID:893bf626-4418-11ed-8185-0a188bb29cab
DTSTAMP:20230503T194209Z
SUMMARY:Commencement/Graduation
LOCATION:Graduation Information
URL;VALUE=URI:https://www.frc.edu/about/calendar/3481206/commencement-gradu
 ation
DTSTART:20230526T200000Z
DTEND:20230527T000000Z
END:VEVENT
END:VCALENDAR
