BEGIN:VCALENDAR
VERSION:2.0
PRODID:SchoolNow
CALSCALE:GREGORIAN
BEGIN:VEVENT
UID:67c252e2-4418-11ed-8169-0a188bb29cab
DTSTAMP:20221004T191152Z
SUMMARY:Spring 2023 semester ends/2nd 9-week classes end
URL;VALUE=URI:https://www.frc.edu/about/calendar/3481205/spring-2023-semest
 er-ends-2nd-9-week-classes-end
DTSTART;VALUE=DATE:20230526
DTEND;VALUE=DATE:20230527
END:VEVENT
END:VCALENDAR
