BEGIN:VCALENDAR
VERSION:2.0
PRODID:SchoolNow
CALSCALE:GREGORIAN
BEGIN:VEVENT
UID:4b1695e0-4418-11ed-8e6e-0a188bb29cab
DTSTAMP:20221004T191104Z
SUMMARY:Final Examinations (Friday is a make-up day)
URL;VALUE=URI:https://www.frc.edu/about/calendar/3481204/final-examinations
 -friday-is-a-make-up-day
DTSTART:20230522T150000Z
DTEND:20230527T000000Z
END:VEVENT
END:VCALENDAR
