BEGIN:VCALENDAR
VERSION:2.0
PRODID:SchoolNow
CALSCALE:GREGORIAN
BEGIN:VEVENT
UID:1f9d5520-4418-11ed-a4c0-0a188bb29cab
DTSTAMP:20221004T190951Z
SUMMARY:Last day to drop 2nd 8-week classes with a "W"
URL;VALUE=URI:https://www.frc.edu/about/calendar/3481203/last-day-to-drop-2
 nd-8-week-classes-with-a-w
DTSTART;VALUE=DATE:20230505
DTEND;VALUE=DATE:20230506
END:VEVENT
END:VCALENDAR
