BEGIN:VCALENDAR
VERSION:2.0
PRODID:SchoolNow
CALSCALE:GREGORIAN
BEGIN:VEVENT
UID:dc9fc00a-4417-11ed-abee-0a188bb29cab
DTSTAMP:20221004T190759Z
SUMMARY:Last day to drop full-term classes with a "W"
URL;VALUE=URI:https://www.frc.edu/about/calendar/3481202/last-day-to-drop-f
 ull-term-classes-with-a-w
DTSTART;VALUE=DATE:20230428
DTEND;VALUE=DATE:20230429
END:VEVENT
END:VCALENDAR
