BEGIN:VCALENDAR
VERSION:2.0
PRODID:SchoolNow
CALSCALE:GREGORIAN
BEGIN:VEVENT
UID:b40d4a04-4417-11ed-8866-0a188bb29cab
DTSTAMP:20221004T190651Z
SUMMARY:Fall 2023 registration for non-matriculated new and continuing stud
 ents
URL;VALUE=URI:https://www.frc.edu/about/calendar/3481201/spring-2023-regist
 ration-for-non-matriculated-new-and-continuing-students-clone
DTSTART;VALUE=DATE:20230423
DTEND;VALUE=DATE:20230424
END:VEVENT
END:VCALENDAR
